BEGIN:VCALENDAR
VERSION:2.0
PRODID:-//ChamberMaster//Event Calendar 2.0//EN
METHOD:PUBLISH
X-PUBLISHED-TTL:P3D
REFRESH-INTERVAL:P3D
CALSCALE:GREGORIAN
BEGIN:VEVENT
DTSTART:20240313T003000Z
DTEND:20240313T020000Z
X-MICROSOFT-CDO-ALLDAYEVENT:FALSE
SUMMARY:Community Connections/ Business After Hours | Marcus Whitman Hotel
DESCRIPTION:The Marcus Whitman is your Walla Walla destination hotel for business proficiency and stunning natural beauty with generous amounts of historic style\, comfort and friendliness to boot. Join us to experience the refreshed decor\, savor gourmet bites and connect with fellow professionals from around the Valley.\n\n\n\nBusiness After Hours is free to attend and Chamber membership is not required. So round up your co-workers\, friends and colleagues and enjoy an evening of conversation and connections.\n\n\n\nIf you plan to attend\, please RSVP to assist our hosts with a headcount for food and beverages.
X-ALT-DESC;FMTTYPE=text/html:<br />\n<br />\n<span style="font-size:16px\;"><span style="font-family:arial\;">The Marcus Whitman is your Walla Walla destination hotel for business proficiency and stunning natural beauty&mdash\;with generous amounts of historic style\, comfort and friendliness to boot. Join us to experience the refreshed decor\, savor gourmet bites and connect with fellow professionals from around the Valley.<br />\n<br />\nBusiness After Hours is free to attend and Chamber membership is not required. So round up your co-workers\, friends and colleagues and enjoy an evening of conversation and connections.<br />\n<br />\nIf you plan to attend\, please RSVP to assist our hosts with a headcount for food and beverages.</span></span>
LOCATION:The Marcus Whitman Hotel 6 W Rose St Walla Walla
UID:e.65.19810
SEQUENCE:3
DTSTAMP:20260425T230723Z
URL:https://business.wwvchamber.com/events/details/community-connections-business-after-hours-marcus-whitman-hotel-19810
END:VEVENT

END:VCALENDAR
