BEGIN:VCALENDAR
VERSION:2.0
PRODID:-//ChamberMaster//Event Calendar 2.0//EN
METHOD:PUBLISH
X-PUBLISHED-TTL:P3D
REFRESH-INTERVAL:P3D
CALSCALE:GREGORIAN
BEGIN:VEVENT
DTSTART:20140309T200000Z
DTEND:20140310T000000Z
X-MICROSOFT-CDO-ALLDAYEVENT:FALSE
SUMMARY:Community Home Birth Forum
DESCRIPTION:Ever consider giving birth at home? Here is your chance to learn about home birth from the experts - those who have done it! I will have a panel of women and men (hopefully!) who will be telling their stories and answering your burning questions about home birth. Snacks and beverages will be served.\n\n\n\nRachael Vixie from Mamma and Baby Supply will have examples of her wares displayed. She will be available to answer questions and for your to purchase items.\n\n\n\nBabysitting will be provided.\n\n\n\nPlease call 509-876-4720 with questions.\n\n\n\nAn RSVP would be greatly appreciated! You can leave a note on FB or email me at kathryn@bluemtmidwifery.com. You can call at 509-876-4720. Thanks!
X-ALT-DESC;FMTTYPE=text/html:Ever consider giving birth at home? Here is your chance to learn about home birth from the experts - those who have done it! I will have a panel of women and men (hopefully!) who will be telling their stories and answering your burning questions about home birth. Snacks and beverages will be served.<br />\n<br />\nRachael Vixie from Mamma and Baby Supply will have examples of her wares displayed. She will be available to answer questions and for your to purchase items.<br />\n<br />\nBabysitting will be provided.<br />\n<br />\nPlease call 509-876-4720 with questions.<br />\n<br />\nAn RSVP would be greatly appreciated! You can leave a note on FB or email me at kathryn@bluemtmidwifery.com. You can call at 509-876-4720. Thanks!
LOCATION:YWCA
UID:e.65.827
SEQUENCE:3
DTSTAMP:20260422T003731Z
URL:https://business.wwvchamber.com/events/details/community-home-birth-forum-03-09-2014-827
END:VEVENT

END:VCALENDAR
