BEGIN:VCALENDAR
VERSION:2.0
PRODID:-//ChamberMaster//Event Calendar 2.0//EN
METHOD:PUBLISH
X-PUBLISHED-TTL:P3D
REFRESH-INTERVAL:P3D
CALSCALE:GREGORIAN
BEGIN:VEVENT
DTSTART:20140720T220000Z
DTEND:20140721T000000Z
X-MICROSOFT-CDO-ALLDAYEVENT:FALSE
SUMMARY:Cooking Class - Farm Fresh Cheese Pâté
DESCRIPTION:For many years now\, Chef Judith Henderson has been perfecting her signature soft farm cheese p t s for Three Rivers Winery and tasting rooms throughout the region pairing seasonally released wines. If you have been out to any of our events you have probably tasted this remarkably delicious cheese creation. In July\, Judith has agreed to hold a small\, exclusive\, hands-on p t  class\, teaching the technique and mindset in making her signature three soft farm cheese p t . If you love luscious food and Three Rivers wine\, then this class is for you and you get to take home your own p t ! Surprise guests at your next wine tasting with a Soft Farm Cheese P t  appetizer you made yourself. Tools and recipes included.
X-ALT-DESC;FMTTYPE=text/html:For many years now\, Chef Judith Henderson has been perfecting her signature soft farm cheese p&acirc\;t&eacute\;s for Three Rivers Winery and tasting rooms throughout the region pairing seasonally released wines. If you have been out to any of our events you have probably tasted this remarkably delicious cheese creation. In July\, Judith has agreed to hold a small\, exclusive\, hands-on p&acirc\;t&eacute\; class\, teaching the technique and mindset in making her signature three soft farm cheese p&acirc\;t&eacute\;. If you love luscious food and Three Rivers wine\, then this class is for you and you get to take home your own p&acirc\;t&eacute\;! Surprise guests at your next wine tasting with a Soft Farm Cheese P&acirc\;t&eacute\; appetizer you made yourself. Tools and recipes included.
LOCATION:Three Rivers Winery 5641 Old Hwy 12 Walla Walla WA 99362
UID:e.65.1842
SEQUENCE:3
DTSTAMP:20260421T180257Z
URL:https://business.wwvchamber.com/events/details/cooking-class-farm-fresh-cheese-p&#226;t&#233;-07-20-2014-1842
END:VEVENT

END:VCALENDAR
