BEGIN:VCALENDAR
VERSION:2.0
PRODID:-//ChamberMaster//Event Calendar 2.0//EN
METHOD:PUBLISH
X-PUBLISHED-TTL:P3D
REFRESH-INTERVAL:P3D
CALSCALE:GREGORIAN
BEGIN:VEVENT
DTSTART:20140316T220000Z
DTEND:20140317T010000Z
X-MICROSOFT-CDO-ALLDAYEVENT:FALSE
SUMMARY:Cooking Class - Traditional Irish Fare
DESCRIPTION:Take the food and wine experience to the next level by signing up for our interactive cooking classes with Chef Sarah Roy in our winery kitchen. During the classes you will participate in hands-on cooking\, sample some Three Rivers wines\, sit down and enjoy what you helped prepare\, and take home a copy of the featured recipes. Wine will be available to purchase for those who would like to enjoy a glass while cooking. Chef Sarah Roy is best known for her Indian cooking and specializes in curry dishes. She owns a catering company called Sipid Bites and has done many events for Three Rivers Winery in the past. We are very excited to share her knowledge with you in a fun and relaxed environment! The Traditional Irish Fare cooking class will get you ready for St.Patty?s Day. You will learn to make three different courses including a traditional Soda Bread\, a hearty Shepherd?s Pie\, and a decadent Chocolate Orange Guinness Cake. Reservations required. Space is limited to 10 people per class. RSVP online or by calling 509-526-9463 x1. Cancellations must be made one week in advance to avoid charges.
X-ALT-DESC;FMTTYPE=text/html:Take the food and wine experience to the next level by signing up for our interactive cooking classes with Chef Sarah Roy in our winery kitchen. During the classes you will participate in hands-on cooking\, sample some Three Rivers wines\, sit down and enjoy what you helped prepare\, and take home a copy of the featured recipes. Wine will be available to purchase for those who would like to enjoy a glass while cooking. Chef Sarah Roy is best known for her Indian cooking and specializes in curry dishes. She owns a catering company called Sipid Bites and has done many events for Three Rivers Winery in the past. We are very excited to share her knowledge with you in a fun and relaxed environment! The Traditional Irish Fare cooking class will get you ready for St.Patty?s Day. You will learn to make three different courses including a traditional Soda Bread\, a hearty Shepherd?s Pie\, and a decadent Chocolate Orange Guinness Cake. Reservations required. Space is limited to 10 people per class. RSVP online or by calling 509-526-9463 x1. Cancellations must be made one week in advance to avoid charges.
LOCATION:Three Rivers Winery 5641 Old Hwy 12 Walla Walla\, WA 99362
UID:e.65.1638
SEQUENCE:3
DTSTAMP:20260422T004636Z
URL:https://business.wwvchamber.com/events/details/cooking-class-traditional-irish-fare-03-16-2014-1638
END:VEVENT

END:VCALENDAR
