BEGIN:VCALENDAR
VERSION:2.0
PRODID:-//ChamberMaster//Event Calendar 2.0//EN
METHOD:PUBLISH
X-PUBLISHED-TTL:P3D
REFRESH-INTERVAL:P3D
CALSCALE:GREGORIAN
BEGIN:VEVENT
DTSTART:20140413T220000Z
DTEND:20140414T010000Z
X-MICROSOFT-CDO-ALLDAYEVENT:FALSE
SUMMARY:Cooking with Chef Sarah - Northern Indian Curry
DESCRIPTION:Take the food and wine experience to the next level by signing up for our interactive cooking classes with Chef Sarah Roy in our winery kitchen. During the classes you will participate in hands-on cooking\, sample some Three Rivers wines\, sit down and enjoy what you helped prepare\, and take home a copy of the featured recipes. Wine will be available to purchase for those who would like to enjoy a glass while cooking. Chef Sarah Roy is best known for her Indian cooking and specializes in curry dishes. She owns a catering company called Sipid Bites and has done many events for Three Rivers Winery in the past. We are very excited to share her knowledge with you in a fun and relaxed environment. Sarah?s curry classes sell out quickly so don?t wait to get signed up! Menu: Starter - Vegetable Pakora\, Main Course - Chicken Korma Sides - Vegetable Jalfrezi and Cumin Basmati Rice
X-ALT-DESC;FMTTYPE=text/html:Take the food and wine experience to the next level by signing up for our interactive cooking classes with Chef Sarah Roy in our winery kitchen. During the classes you will participate in hands-on cooking\, sample some Three Rivers wines\, sit down and enjoy what you helped prepare\, and take home a copy of the featured recipes. Wine will be available to purchase for those who would like to enjoy a glass while cooking. Chef Sarah Roy is best known for her Indian cooking and specializes in curry dishes. She owns a catering company called Sipid Bites and has done many events for Three Rivers Winery in the past. We are very excited to share her knowledge with you in a fun and relaxed environment. Sarah?s curry classes sell out quickly so don?t wait to get signed up! Menu: Starter - Vegetable Pakora\, Main Course - Chicken Korma Sides - Vegetable Jalfrezi and Cumin Basmati Rice
LOCATION:Three Rivers Winery 5641 Old Hwy 12 Walla Walla WA 99362
UID:e.65.1670
SEQUENCE:3
DTSTAMP:20260422T004801Z
URL:https://business.wwvchamber.com/events/details/cooking-with-chef-sarah-northern-indian-curry-04-13-2014-1670
END:VEVENT

END:VCALENDAR
