BEGIN:VCALENDAR
VERSION:2.0
PRODID:-//ChamberMaster//Event Calendar 2.0//EN
METHOD:PUBLISH
X-PUBLISHED-TTL:P3D
REFRESH-INTERVAL:P3D
CALSCALE:GREGORIAN
BEGIN:VEVENT
DTSTART:20140503T160000Z
DTEND:20140503T220000Z
X-MICROSOFT-CDO-ALLDAYEVENT:FALSE
SUMMARY:Dayton 3rd Street Church & Organization Street Sale
DESCRIPTION:The 11th Annual 3rd Street Church and Community Organization Street Sale will be on May 3\, 2014. This is a large street/yard sale that raises funds for various church\, community organization\, and school groups. Something for everyone! German dogs are back\, and the theater will be selling food as well. The FFA plant sale will be that same day\, and the Dayton Farmers Market will be open from 10 AM to 1 PM. Please plan to join us for a morning/early afternoon of shopping on the street!
X-ALT-DESC;FMTTYPE=text/html:The 11th Annual 3rd Street Church and Community Organization Street Sale will be on May 3\, 2014. This is a large street/yard sale that raises funds for various church\, community organization\, and school groups. Something for everyone! German dogs are back\, and the theater will be selling food as well. The FFA plant sale will be that same day\, and the Dayton Farmers Market will be open from 10 AM to 1 PM. Please plan to join us for a morning/early afternoon of shopping on the street!
LOCATION:Dayton\, WA
UID:e.65.1669
SEQUENCE:3
DTSTAMP:20260421T231043Z
URL:https://business.wwvchamber.com/events/details/dayton-3rd-street-church-organization-street-sale-05-03-2014-1669
END:VEVENT

END:VCALENDAR
