BEGIN:VCALENDAR
VERSION:2.0
PRODID:-//ChamberMaster//Event Calendar 2.0//EN
METHOD:PUBLISH
X-PUBLISHED-TTL:P3D
REFRESH-INTERVAL:P3D
CALSCALE:GREGORIAN
BEGIN:VEVENT
DTSTART:20260523T180000Z
DTEND:20260523T210000Z
X-MICROSOFT-CDO-ALLDAYEVENT:FALSE
SUMMARY:Dayton Days at the Boldman House Museum
DESCRIPTION:Saturday\, May 23rd from 11am to 2pm. The Boldman House will have an afternoon of activities for young people again this year. After the parade\, head on down to the museum located at 410 North First Street. From 11:00am-2:00pm experience what life was like in Dayton during the early twentieth century. Appreciate the taste of homemade butter on fresh bread\, smell some flowers in the Boldman Garden\, shell corn or peel an apple using vintage techniques\, experience doing laundry in tubs with a washboard and a wringer\, learn about and use old hand tools\, and more. This is a free activity for everyone.
X-ALT-DESC;FMTTYPE=text/html:Saturday\, May 23rd from 11am to 2pm. The Boldman House will have an afternoon of activities for young people again this year. After the parade\, head on down to the museum located at 410 North First Street. From 11:00am-2:00pm experience what life was like in Dayton during the early twentieth century. Appreciate the taste of homemade butter on fresh bread\, smell some flowers in the Boldman Garden\, shell corn or peel an apple using vintage techniques\, experience doing laundry in tubs with a washboard and a wringer\, learn about and use old hand tools\, and more. This is a free activity for everyone.
LOCATION:Boldman House Museum 410 N. 1st Street Dayton\, WA 99328
UID:e.65.21937
SEQUENCE:3
DTSTAMP:20260426T031542Z
URL:https://business.wwvchamber.com/events/details/dayton-days-at-the-boldman-house-museum-05-23-2026-21937
END:VEVENT

END:VCALENDAR
