BEGIN:VCALENDAR
VERSION:2.0
PRODID:-//ChamberMaster//Event Calendar 2.0//EN
METHOD:PUBLISH
X-PUBLISHED-TTL:P3D
REFRESH-INTERVAL:P3D
CALSCALE:GREGORIAN
BEGIN:VEVENT
DTSTART:20240525T180000Z
DTEND:20240525T210000Z
X-MICROSOFT-CDO-ALLDAYEVENT:FALSE
SUMMARY:Dayton Days at the Boldman House Museum
DESCRIPTION:Experience some of the typical activities in the life of a Dayton family in the early 1900s. Learn about old-time tools\, chores\, and activities\, use a washboard and wringer\, peel an apple without a knife\, smell the garden flowers\, shell corn\, make butter and spread it on freshly baked bread & more! The house will be open for tours from 3 to 5. Come visit and join in the fun--and its FREE!
X-ALT-DESC;FMTTYPE=text/html:<span style="font-family:aptos\,sans-serif\;"><span style="font-size:12.0pt\;">Experience some of the typical activities in the life of a Dayton family in the early 1900s. Learn about old-time tools\, chores\, and activities\, use a washboard and wringer\, peel an apple without a knife\, smell the garden flowers\, shell corn\, make butter and spread it on freshly baked bread &amp\; more! The house will be open for tours from 3 to 5. Come visit and join in the fun--and its FREE!</span></span>
LOCATION:410 N 1st Street Dayton\, WA 99328
UID:e.65.20040
SEQUENCE:3
DTSTAMP:20260425T193053Z
URL:https://business.wwvchamber.com/events/details/dayton-days-at-the-boldman-house-museum-20040
END:VEVENT

END:VCALENDAR
