BEGIN:VCALENDAR
VERSION:2.0
PRODID:-//ChamberMaster//Event Calendar 2.0//EN
METHOD:PUBLISH
X-PUBLISHED-TTL:P3D
REFRESH-INTERVAL:P3D
CALSCALE:GREGORIAN
BEGIN:VEVENT
DTSTART:20140615T180000Z
DTEND:20140616T010000Z
X-MICROSOFT-CDO-ALLDAYEVENT:FALSE
SUMMARY:Diversity Day
DESCRIPTION:Multicultural arts festival. Food\, music\, dance\, arts & crafts and family fun. Dress up in ethnic/national costume and you may win a prize. FREE
X-ALT-DESC;FMTTYPE=text/html:Multicultural arts festival. Food\, music\, dance\, arts &amp\; crafts and family fun. Dress up in ethnic/national costume and you may win a prize. FREE
LOCATION:Pioneer Park\, Walla Walla
UID:e.65.1633
SEQUENCE:3
DTSTAMP:20260421T193417Z
URL:https://business.wwvchamber.com/events/details/diversity-day-06-15-2014-1633
END:VEVENT

END:VCALENDAR
