BEGIN:VCALENDAR
VERSION:2.0
PRODID:-//ChamberMaster//Event Calendar 2.0//EN
METHOD:PUBLISH
X-PUBLISHED-TTL:P3D
REFRESH-INTERVAL:P3D
CALSCALE:GREGORIAN
BEGIN:VEVENT
DTSTART:20141024T013000Z
DTEND:20141024T033000Z
X-MICROSOFT-CDO-ALLDAYEVENT:FALSE
SUMMARY:Doctor May We Talk? A free evening on breast health
DESCRIPTION:A free symposium on women?s health\, ?Doctor\, May We Talk?? will be Oct. 23 from 6:30 to 8:30 p.m. at Maxey Hall on the Whitman College campus. Local specialists will discuss hormone replacement therapy\, breast cancer prevention\, 3D mammography\, and the treatment of breast cancer.
X-ALT-DESC;FMTTYPE=text/html:A free symposium on women?s health\, ?Doctor\, May We Talk?? will be Oct. 23 from 6:30 to 8:30 p.m. at Maxey Hall on the Whitman College campus. Local specialists will discuss hormone replacement therapy\, breast cancer prevention\, 3D mammography\, and the treatment of breast cancer.
LOCATION:Maxey Hall\, Whitman College
UID:e.65.1962
SEQUENCE:3
DTSTAMP:20260421T121834Z
URL:https://business.wwvchamber.com/events/details/doctor-may-we-talk-a-free-evening-on-breast-health-10-23-2014-1962
END:VEVENT

END:VCALENDAR
