BEGIN:VCALENDAR
VERSION:2.0
PRODID:-//ChamberMaster//Event Calendar 2.0//EN
METHOD:PUBLISH
X-PUBLISHED-TTL:P3D
REFRESH-INTERVAL:P3D
CALSCALE:GREGORIAN
BEGIN:VEVENT
DTSTART:20141205T023000Z
DTEND:20141205T040000Z
X-MICROSOFT-CDO-ALLDAYEVENT:FALSE
SUMMARY:"Downton Abbey" Season 5\, Episode 1 - Preview Screening
DESCRIPTION:Fans of "Downton Abbey" will be able to preview the first episode of Season 5\, a month before its official US release.\n\n \n\n"Downton Abbey" is a popular British period drama that began airing in the United Kingdom in the fall of 2010\, and is re-broadcast in the United States on PBS. Season 5\, Episode 1 is scheduled for US broadcast starting on January 4\, 2015. The new season is set in 1924\, as Britain's first Labour government comes to power.\n\n \nThe screening begins at 6:30 p.m. at the Gesa Power House Theatre. Additional pre-show activities will be announced.
X-ALT-DESC;FMTTYPE=text/html:<div>Fans of &quot\;Downton Abbey&quot\; will be able to preview the first episode of Season 5\, a month before its official US release.</div>\n\n<div>&nbsp\;</div>\n\n<div>&quot\;Downton Abbey&quot\; is a popular British period drama that began airing in the United Kingdom in the fall of 2010\, and is re-broadcast in the United States on PBS. Season 5\, Episode 1 is scheduled for US broadcast starting on January 4\, 2015. The new season is set in 1924\, as Britain&#39\;s first Labour government comes to power.<br />\n&nbsp\;\n<div>The screening begins at 6:30 p.m. at the Gesa Power House Theatre. Additional pre-show activities will be announced.</div>\n\n<div>&nbsp\;</div>\n</div>\n
LOCATION:Gesa Power House Theatre
UID:e.65.1984
SEQUENCE:3
DTSTAMP:20260421T090808Z
URL:https://business.wwvchamber.com/events/details/downton-abbey-season-5-episode-1-preview-screening-12-04-2014-1984
END:VEVENT

END:VCALENDAR
