BEGIN:VCALENDAR
VERSION:2.0
PRODID:-//ChamberMaster//Event Calendar 2.0//EN
METHOD:PUBLISH
X-PUBLISHED-TTL:P3D
REFRESH-INTERVAL:P3D
CALSCALE:GREGORIAN
BEGIN:VEVENT
DTSTART:20140913T160000Z
DTEND:20140913T200000Z
X-MICROSOFT-CDO-ALLDAYEVENT:FALSE
SUMMARY:Downtown Farmers Market
DESCRIPTION:Every Saturday starting May through the end of October the Downtown Farmers Market will be open from 9am to 1pm. The largest gathering of vendors in the Walla Walla Valley with produce\, prepared food\, artisans\, plants and much more!
X-ALT-DESC;FMTTYPE=text/html:Every Saturday starting May through the end of October the Downtown Farmers Market will be open from 9am to 1pm. The largest gathering of vendors in the Walla Walla Valley with produce\, prepared food\, artisans\, plants and much more!
LOCATION:4th and Main in Downtown Walla Walla
UID:e.65.1707
SEQUENCE:3
DTSTAMP:20260421T140639Z
URL:https://business.wwvchamber.com/events/details/downtown-farmers-market-09-13-2014-1707
END:VEVENT

END:VCALENDAR
