BEGIN:VCALENDAR
VERSION:2.0
PRODID:-//ChamberMaster//Event Calendar 2.0//EN
METHOD:PUBLISH
X-PUBLISHED-TTL:P3D
REFRESH-INTERVAL:P3D
CALSCALE:GREGORIAN
BEGIN:VEVENT
DTSTART;VALUE=DATE:20140503
DTEND;VALUE=DATE:20140505
TRANSP:TRANSPARENT
X-MICROSOFT-CDO-ALLDAYEVENT:TRUE
SUMMARY:Drag Racing
DESCRIPTION:Saturday\, May 3\n\nNapa Points #1\n\nGates open @ 7:30 am\, T&T @ 9:30 am\, Time Trials @ 1 pm\, followed by Eliminations\n\n\n\nSunday\, May 4\n\nNapa Points #2\n\nGates open @ 7:30 am\, Time Trials @ 9:30 am\, followed by Eliminations
X-ALT-DESC;FMTTYPE=text/html:Saturday\, May 3<br />\nNapa Points #1<br />\nGates open @ 7:30 am\, T&amp\;T @ 9:30 am\, Time Trials @ 1 pm\, followed by Eliminations<br />\n<br />\nSunday\, May 4<br />\nNapa Points #2<br />\nGates open @ 7:30 am\, Time Trials @ 9:30 am\, followed by Eliminations<br />\n<br />\n&nbsp\;
LOCATION:1212 Middle Waitsburg Rd\, Walla Walla\, WA 99362
UID:e.65.1687
SEQUENCE:3
DTSTAMP:20260421T223430Z
URL:https://business.wwvchamber.com/events/details/drag-racing-05-03-2014-1687
END:VEVENT

END:VCALENDAR
