BEGIN:VCALENDAR
VERSION:2.0
PRODID:-//ChamberMaster//Event Calendar 2.0//EN
METHOD:PUBLISH
X-PUBLISHED-TTL:P3D
REFRESH-INTERVAL:P3D
CALSCALE:GREGORIAN
BEGIN:VEVENT
DTSTART:20141011T190000Z
DTEND:20141011T220000Z
X-MICROSOFT-CDO-ALLDAYEVENT:FALSE
SUMMARY:Dunham Cellars Harvest Lunch
DESCRIPTION:Join the Winemaking Team for lunch at Dunham Cellars! We'll start with a tour of our winery\, which is located in a WWII airplane hangar. Then enjoy a casual lunch paired with our award-winning wines and the chance to see 'crush' in action! $65/$60 for Wine Club\, includes meal\, wine\, tax\, and gratuity. Starts at noon.
X-ALT-DESC;FMTTYPE=text/html:Join the Winemaking Team for lunch at Dunham Cellars! We&#39\;ll start with a tour of our winery\, which is located in a WWII airplane hangar. Then enjoy a casual lunch paired with our award-winning wines and the chance to see &#39\;crush&#39\; in action! $65/$60 for Wine Club\, includes meal\, wine\, tax\, and gratuity. Starts at noon.
LOCATION:Dunham Cellars 150 E Boeing Ave Walla Walla\, WA 99362
UID:e.65.1782
SEQUENCE:3
DTSTAMP:20260421T121150Z
URL:https://business.wwvchamber.com/events/details/dunham-cellars-harvest-lunch-10-11-2014-1782
END:VEVENT

END:VCALENDAR
