BEGIN:VCALENDAR
VERSION:2.0
PRODID:-//ChamberMaster//Event Calendar 2.0//EN
METHOD:PUBLISH
X-PUBLISHED-TTL:P3D
REFRESH-INTERVAL:P3D
CALSCALE:GREGORIAN
BEGIN:VEVENT
DTSTART:20141019T003000Z
DTEND:20141019T040000Z
X-MICROSOFT-CDO-ALLDAYEVENT:FALSE
SUMMARY:Dunham Cellars Harvest Winemaker Dinner
DESCRIPTION:Join the Winemaking Team for dinner at Dunham Cellars! We'll start with a tour of our winery\, which is located in an old WWII airplane hangar. Then enjoy an elegant 5-course meal prepared by guest chef\, Jonathan Zimmer\, of Lisa Dupar Catering and Pomegranate Bistro\, paired with our award-winning wines. This is sure to be a night to remember for all who attend! $135/$125 for Wine Club\, includes meal\, wine\, tax\, and gratuity. Starts at 5:30pm.
X-ALT-DESC;FMTTYPE=text/html:Join the Winemaking Team for dinner at Dunham Cellars! We&#39\;ll start with a tour of our winery\, which is located in an old WWII airplane hangar. Then enjoy an elegant 5-course meal prepared by guest chef\, Jonathan Zimmer\, of Lisa Dupar Catering and Pomegranate Bistro\, paired with our award-winning wines. This is sure to be a night to remember for all who attend! $135/$125 for Wine Club\, includes meal\, wine\, tax\, and gratuity. Starts at 5:30pm.
LOCATION:Dunham Cellars 150 E Boeing Ave Walla Walla\, WA 99362
UID:e.65.1784
SEQUENCE:3
DTSTAMP:20260421T120952Z
URL:https://business.wwvchamber.com/events/details/dunham-cellars-harvest-winemaker-dinner-10-18-2014-1784
END:VEVENT

END:VCALENDAR
