BEGIN:VCALENDAR
VERSION:2.0
PRODID:-//ChamberMaster//Event Calendar 2.0//EN
METHOD:PUBLISH
X-PUBLISHED-TTL:P3D
REFRESH-INTERVAL:P3D
CALSCALE:GREGORIAN
BEGIN:VEVENT
DTSTART:20140823T010000Z
DTEND:20140823T050000Z
X-MICROSOFT-CDO-ALLDAYEVENT:FALSE
SUMMARY:Dunham Days! - 5th Annual
DESCRIPTION:Festivities begin in the Hangar Lounge with live music from Gary Winston and the Real Deal band! Food selections by Andrae's Kitchen and Walla Walla Bread Company's wood fired brick pizza oven. Your favorite Dunham wines will be available by the bottle or by the glass. Open to everyone | No cover charge | Food and wine available for purchase |
X-ALT-DESC;FMTTYPE=text/html:Festivities begin in the Hangar Lounge with live music from Gary Winston and the Real Deal band! Food selections by Andrae&#39\;s Kitchen and Walla Walla Bread Company&#39\;s wood fired brick pizza oven. Your favorite Dunham wines will be available by the bottle or by the glass. Open to everyone | No cover charge | Food and wine available for purchase |
LOCATION:Dunham Cellars 150 E Boeing Ave\, Walla Walla\, WA 99362
UID:e.65.1761
SEQUENCE:3
DTSTAMP:20260421T160614Z
URL:https://business.wwvchamber.com/events/details/dunham-days-5th-annual-08-22-2014-1761
END:VEVENT

END:VCALENDAR
