BEGIN:VCALENDAR
VERSION:2.0
PRODID:-//ChamberMaster//Event Calendar 2.0//EN
METHOD:PUBLISH
X-PUBLISHED-TTL:P3D
REFRESH-INTERVAL:P3D
CALSCALE:GREGORIAN
BEGIN:VEVENT
DTSTART;VALUE=DATE:20140823
DTEND;VALUE=DATE:20140825
TRANSP:TRANSPARENT
X-MICROSOFT-CDO-ALLDAYEVENT:TRUE
SUMMARY:Dunham Days! - 5th Annual
DESCRIPTION:Swing by the winery for tastings pulled from the Library by the Winemaking Team\, Eric Dunham and Dan Wampfler. Also\, check out Eric's newest art series! Montana Artist\, Lee Proctor\, will be back with us throughout the weekend displaying his stunning metal and glass pieces. $10 tasting fee refundable with $25 wine purchase | Always Free to Wine Club Members
X-ALT-DESC;FMTTYPE=text/html:Swing by the winery for tastings pulled from the Library by the Winemaking Team\, Eric Dunham and Dan Wampfler. Also\, check out Eric&#39\;s newest art series! Montana Artist\, Lee Proctor\, will be back with us throughout the weekend displaying his stunning metal and glass pieces. $10 tasting fee refundable with $25 wine purchase | Always Free to Wine Club Members
LOCATION:Dunham Cellars 150 E Boeing Ave\, Walla Walla\, WA 99362
UID:e.65.1762
SEQUENCE:3
DTSTAMP:20260421T160613Z
URL:https://business.wwvchamber.com/events/details/dunham-days-5th-annual-08-23-2014-1762
END:VEVENT

END:VCALENDAR
