BEGIN:VCALENDAR
VERSION:2.0
PRODID:-//ChamberMaster//Event Calendar 2.0//EN
METHOD:PUBLISH
X-PUBLISHED-TTL:P3D
REFRESH-INTERVAL:P3D
CALSCALE:GREGORIAN
BEGIN:VEVENT
DTSTART:20140824T170000Z
DTEND:20140824T183000Z
X-MICROSOFT-CDO-ALLDAYEVENT:FALSE
SUMMARY:Dunham Days! brunch - 5th Annual
DESCRIPTION:We'll send you on your way in style with a delicious brunch by Cr pe Caf  de Walla Walla your taste buds won't soon forget! $20 per person RSVP required
X-ALT-DESC;FMTTYPE=text/html:We&#39\;ll send you on your way in style with a delicious brunch by Cr&ecirc\;pe Caf&eacute\; de Walla Walla your taste buds won&#39\;t soon forget! $20 per person RSVP required
LOCATION:Dunham Cellars 150 E Boeing Ave\, Walla Walla\, WA 99362
UID:e.65.1763
SEQUENCE:3
DTSTAMP:20260421T160713Z
URL:https://business.wwvchamber.com/events/details/dunham-days-brunch-5th-annual-08-24-2014-1763
END:VEVENT

END:VCALENDAR
