BEGIN:VCALENDAR
VERSION:2.0
PRODID:-//ChamberMaster//Event Calendar 2.0//EN
METHOD:PUBLISH
X-PUBLISHED-TTL:P3D
REFRESH-INTERVAL:P3D
CALSCALE:GREGORIAN
BEGIN:VEVENT
DTSTART:20141107T160000Z
DTEND:20141109T000000Z
X-MICROSOFT-CDO-ALLDAYEVENT:FALSE
SUMMARY:Eagles Annual Holiday Bazaar
DESCRIPTION:Open to the Public! This Holiday Gift Bazaar has a huge variety of items to choose from for that special someone on yur list. Soup & Sandwich Lunch available for $6 from 11:30am-NOON. Bake Sale both days. Basket Raffles to benefit Eagles' Charities(need not be prsent to win!)
X-ALT-DESC;FMTTYPE=text/html:<strong>Open to the Public</strong>! This&nbsp\;Holiday&nbsp\;Gift Bazaar&nbsp\;has a huge variety of items to choose from for&nbsp\;that special someone on yur&nbsp\;list. Soup &amp\; Sandwich Lunch available for $6 from 11:30am-NOON. Bake Sale both days. Basket Raffles to benefit Eagles' Charities(need not be prsent to win!)
LOCATION:350 S. 2nd\, Walla Walla
UID:e.65.736
SEQUENCE:3
DTSTAMP:20260421T104035Z
URL:https://business.wwvchamber.com/events/details/eagles-annual-holiday-bazaar-11-07-2014-736
END:VEVENT

END:VCALENDAR
