BEGIN:VCALENDAR
VERSION:2.0
PRODID:-//ChamberMaster//Event Calendar 2.0//EN
METHOD:PUBLISH
X-PUBLISHED-TTL:P3D
REFRESH-INTERVAL:P3D
CALSCALE:GREGORIAN
BEGIN:VEVENT
DTSTART:20140302T030000Z
DTEND:20140302T050000Z
X-MICROSOFT-CDO-ALLDAYEVENT:FALSE
SUMMARY:Engineers Without Borders Annual Gala
DESCRIPTION:This year marks the sixth annual EWB Fundraising Gala\, featuring our new project currently underway in Peru. Last year\, Walla Walla alumni\, students\, and community members competed and dashed for desserts\, bid on silent auction items\, and participated in a live auction. Items included weekend vacation packages\, artwork\, international artifacts\, golf outings\, and much more! Your dedicated support helped us raise over $10\,000!\n\n\n\nOur new water project in Peru will be front and center at the gala. We have already made two trips to Checacupe\, Peru to establish the project\, and to engage the local community and government officials. An eight-person WWU team limit ensures that the community is highly involved in the construction process and learns sustainable skills for future improvement on their own.\n\n\n\nThe Project Peru Gala is a marvelous event to support the future endeavors and projects to help people in need. Please register soon to guarantee a seat! We look forward to spending a delightful evening with you!\n\n\n\nTicket Price: $50 per person or $350 per 8-person table\, sold through Sunday\, February 23\, 2014. Student discounts available on the registration page.
X-ALT-DESC;FMTTYPE=text/html:This year marks the sixth annual EWB Fundraising Gala\, featuring our new project currently underway in Peru. Last year\, Walla Walla alumni\, students\, and community members competed and dashed for desserts\, bid on silent auction items\, and participated in a live auction. Items included weekend vacation packages\, artwork\, international artifacts\, golf outings\, and much more! Your dedicated support helped us raise over $10\,000!<br />\n<br />\nOur new water project in Peru will be front and center at the gala. We have already made two trips to Checacupe\, Peru to establish the project\, and to engage the local community and government officials. An eight-person WWU team limit ensures that the community is highly involved in the construction process and learns sustainable skills for future improvement on their own.<br />\n<br />\nThe Project Peru Gala is a marvelous event to support the future endeavors and projects to help people in need. Please register soon to guarantee a seat! We look forward to spending a delightful evening with you!<br />\n<br />\nTicket Price: $50 per person or $350 per 8-person table\, sold through Sunday\, February 23\, 2014. Student discounts available on the registration page.
LOCATION:Walla Walla Country Club 1390 Country Club Rd Walla Walla\, WA 99362
UID:e.65.1617
SEQUENCE:3
DTSTAMP:20260422T003623Z
URL:https://business.wwvchamber.com/events/details/engineers-without-borders-annual-gala-03-01-2014-1617
END:VEVENT

END:VCALENDAR
