BEGIN:VCALENDAR
VERSION:2.0
PRODID:-//ChamberMaster//Event Calendar 2.0//EN
METHOD:PUBLISH
X-PUBLISHED-TTL:P3D
REFRESH-INTERVAL:P3D
CALSCALE:GREGORIAN
BEGIN:VEVENT
DTSTART:20240622T200000Z
DTEND:20240622T230000Z
X-MICROSOFT-CDO-ALLDAYEVENT:FALSE
SUMMARY:Eritage Resort Summer Bash
DESCRIPTION:Kick off your summer fun at our annual Summer Bash Barbecue\, Saturday afternoon\, June 22nd from 1:00pm to 4:00pm. We'll be firing up the grill and serving summer classics such as hot dogs\, ribs\, ceviche tostada and smash burgers. Join in some family friendly activities and entertainment with cornhole\, bocce ball & badmitten\, or just relax\, soak up the sun and enjoy happy hour pricing on beers and wines. We'll have a dj spinning tunes all day and be sure to stop into the photo booth for a picture-perfect memory of the day! For more information visit: https://eritageresort.com/dining.html
X-ALT-DESC;FMTTYPE=text/html:Kick off your summer fun at our annual Summer Bash Barbecue\, Saturday afternoon\, June 22nd from 1:00pm to 4:00pm. We&#39\;ll be firing up the grill and serving summer classics such as hot dogs\, ribs\, ceviche tostada and smash burgers. Join in some family friendly activities and entertainment with cornhole\, bocce ball &amp\; badmitten\, or just relax\, soak up the sun and enjoy happy hour pricing on beers and wines. We&#39\;ll have a dj spinning tunes all day and be sure to stop into the photo booth for a picture-perfect memory of the day! For more information visit: https://eritageresort.com/dining.html
LOCATION:Eritage Resort 1319 Bergevin Springs Road Walla Walla
UID:e.65.20095
SEQUENCE:3
DTSTAMP:20260425T210658Z
URL:https://business.wwvchamber.com/events/details/eritage-resort-summer-bash-20095
END:VEVENT

END:VCALENDAR
