BEGIN:VCALENDAR
VERSION:2.0
PRODID:-//ChamberMaster//Event Calendar 2.0//EN
METHOD:PUBLISH
X-PUBLISHED-TTL:P3D
REFRESH-INTERVAL:P3D
CALSCALE:GREGORIAN
BEGIN:VEVENT
DTSTART:20141026T010000Z
DTEND:20141026T050000Z
X-MICROSOFT-CDO-ALLDAYEVENT:FALSE
SUMMARY:Evening Serenade: Walla Walla Symphony Fundraising Gala
DESCRIPTION:The Symphony's annual fundraising gala will feature delicious food stations\, wine by Castillo de Feliciana\, Ensemble Cellars and Isenhower Cellars\, silent and live auctions\, and live music by SJS Jazz Trio\, Anna & Jesse Burgess and Rogue Lobster!\n\n\n\nMake your reservations today!
X-ALT-DESC;FMTTYPE=text/html:<span class="normal" id="3559"><span style="font-family: arial\,helvetica\,sans-serif\;">The Symphony's annual fundraising gala will feature delicious food stations\, wine by Castillo de Feliciana\, Ensemble Cellars and Isenhower Cellars\, silent and live auctions\, and live music by SJS Jazz Trio\, Anna &amp\; Jesse Burgess and Rogue Lobster!</span><br>\n<br>\n<span style="font-family: arial\,helvetica\,sans-serif\;">Make your reservations today!</span></span>
LOCATION:Marcus Whitman Hotel Ballroom
UID:e.65.1965
SEQUENCE:3
DTSTAMP:20260421T140612Z
URL:https://business.wwvchamber.com/events/details/evening-serenade-walla-walla-symphony-fundraising-gala-10-25-2014-1965
END:VEVENT

END:VCALENDAR
