BEGIN:VCALENDAR
VERSION:2.0
PRODID:-//ChamberMaster//Event Calendar 2.0//EN
METHOD:PUBLISH
X-PUBLISHED-TTL:P3D
REFRESH-INTERVAL:P3D
CALSCALE:GREGORIAN
BEGIN:VEVENT
DTSTART:20260426T023000Z
DTEND:20260426T033000Z
X-MICROSOFT-CDO-ALLDAYEVENT:FALSE
SUMMARY:Evensong
DESCRIPTION:Close the Sabbath with spoken word and organ pieces performed by students of the Music Department and Kraig Scott\, on Saturday\, April 25\, at 7:30 p.m. All are welcome!
X-ALT-DESC;FMTTYPE=text/html:Close the Sabbath with spoken word and organ pieces performed by students of the Music Department and Kraig Scott\, on Saturday\, April 25\, at 7:30 p.m. All are welcome!
LOCATION:Walla Walla University Church
UID:e.65.22002
SEQUENCE:3
DTSTAMP:20260422T100205Z
URL:https://business.wwvchamber.com/events/details/evensong-04-25-2026-22002
END:VEVENT

END:VCALENDAR
