BEGIN:VCALENDAR
VERSION:2.0
PRODID:-//ChamberMaster//Event Calendar 2.0//EN
METHOD:PUBLISH
X-PUBLISHED-TTL:P3D
REFRESH-INTERVAL:P3D
CALSCALE:GREGORIAN
BEGIN:VEVENT
DTSTART;VALUE=DATE:20140628
DTEND;VALUE=DATE:20140629
TRANSP:TRANSPARENT
X-MICROSOFT-CDO-ALLDAYEVENT:TRUE
SUMMARY:Event at Spring Valley Vineyard Tasting room downtown
DESCRIPTION:On the last Saturday of each quarter\, a different library wine will be featured from our private cellar for tasting and purchase. \n\n\n\nPrivate Cellar Saturday\n\nJune 28\, 2014\n\n10am to 5:00pm\n\nWalla Walla Tasting Room Downtown\n\n\n\nWe will be featuring our 2007 Derby Cabernet Sauvignon 100% Estate-grown from the Walla Walla Valley.  There will be limited quantities available for purchase.\n\n\n\nThere will be a cheese board for pairing and we will have music from 1pm to 4pm by Garth Olson.\n\n\n\nWe look forward to seeing you.
X-ALT-DESC;FMTTYPE=text/html:On the last Saturday of each quarter\, a different library wine will be featured from our private cellar for tasting and purchase.&nbsp\;<br />\n<br />\nPrivate Cellar Saturday<br />\nJune 28\, 2014<br />\n10am to 5:00pm<br />\nWalla Walla Tasting Room Downtown<br />\n<br />\nWe will be featuring our 2007&nbsp\;Derby Cabernet Sauvignon 100% Estate-grown from the Walla Walla Valley.&nbsp\; There will be limited quantities available for purchase.<br />\n<br />\nThere will be a cheese board for pairing and we will have music from 1pm to 4pm by Garth Olson.<br />\n<br />\nWe look forward to seeing you.
LOCATION:Spring Valley Tasting Room Downtown
UID:e.65.1792
SEQUENCE:3
DTSTAMP:20260421T194726Z
URL:https://business.wwvchamber.com/events/details/event-at-spring-valley-vineyard-tasting-room-downtown-06-28-2014-1792
END:VEVENT

END:VCALENDAR
