BEGIN:VCALENDAR
VERSION:2.0
PRODID:-//ChamberMaster//Event Calendar 2.0//EN
METHOD:PUBLISH
X-PUBLISHED-TTL:P3D
REFRESH-INTERVAL:P3D
CALSCALE:GREGORIAN
BEGIN:VEVENT
DTSTART:20140716T003000Z
DTEND:20140716T013000Z
X-MICROSOFT-CDO-ALLDAYEVENT:FALSE
SUMMARY:Event at Walla Walla Senior Citizen's Center\, Inc DBA The Center at the Park
DESCRIPTION:Tuesday\, July 15. 5:30 to 6:30 PM. 720 Sprague St. Walla Walla\, WA. Please come and enjoy live music while you eat a huge Belgian waffle smothered with strawberries\, topped with whipped cream and our famous sausage on the side\, all for only $4.00. Sponsored by our good friends at Quail Run! Great entertainment by the fabulous one-man-band Cliff Spencer\, guitarist\, vocalist\, with a full sound ! There is also room for dancing! All ages are welcomed. For questions or directions\, please call 527-3775. Thank you for supporting your local Senior Citizens Center and helping us to keep our doors open!
X-ALT-DESC;FMTTYPE=text/html:Tuesday\, July 15. 5:30 to 6:30 PM. 720 Sprague St. Walla Walla\, WA. Please come and enjoy live music while you eat a huge Belgian waffle smothered with strawberries\, topped with whipped cream and our famous sausage on the side\, all for only $4.00. Sponsored by our good friends at Quail Run! Great entertainment by the fabulous one-man-band Cliff Spencer\, guitarist\, vocalist\, with a full sound ! There is also room for dancing! All ages are welcomed. For questions or directions\, please call 527-3775. Thank you for supporting your local Senior Citizens Center and helping us to keep our doors open!
LOCATION:Walla Walla Senior Citizens Center
UID:e.65.1846
SEQUENCE:3
DTSTAMP:20260421T191147Z
URL:https://business.wwvchamber.com/events/details/event-at-walla-walla-senior-citizen-s-center-inc-dba-the-center-at-the-park-07-15-2014-1846
END:VEVENT

END:VCALENDAR
