BEGIN:VCALENDAR
VERSION:2.0
PRODID:-//ChamberMaster//Event Calendar 2.0//EN
METHOD:PUBLISH
X-PUBLISHED-TTL:P3D
REFRESH-INTERVAL:P3D
CALSCALE:GREGORIAN
BEGIN:VEVENT
DTSTART:20140413T010000Z
DTEND:20140413T030000Z
X-MICROSOFT-CDO-ALLDAYEVENT:FALSE
SUMMARY:"Evil Dead: The Musical"
DESCRIPTION:A hilarious stage musical that takes all the elements of the cult classic films\, Evil Dead\, Evil Dead 2 and Army of Darkness then combines them to make one of the craziest theatrical experiences of all time!
X-ALT-DESC;FMTTYPE=text/html:A hilarious stage musical that takes all the elements of the cult classic films\, Evil Dead\, Evil Dead 2 and Army of Darkness then combines them to make one of the craziest theatrical experiences of all time!
LOCATION:Gesa Power House Theatre 111 N. Sixth Avenue Walla Walla\, WA 99362
UID:e.65.840
SEQUENCE:3
DTSTAMP:20260422T002340Z
URL:https://business.wwvchamber.com/events/details/evil-dead-the-musical-04-12-2014-840
END:VEVENT

END:VCALENDAR
