BEGIN:VCALENDAR
VERSION:2.0
PRODID:-//ChamberMaster//Event Calendar 2.0//EN
METHOD:PUBLISH
X-PUBLISHED-TTL:P3D
REFRESH-INTERVAL:P3D
CALSCALE:GREGORIAN
BEGIN:VEVENT
DTSTART:20141030T010000Z
DTEND:20141030T023000Z
X-MICROSOFT-CDO-ALLDAYEVENT:FALSE
SUMMARY:EWASDA Free Seminar
DESCRIPTION:EWASDA is sponsoring their 2nd Free seminar\, "Why do they do that": Understanding the Function Behind the Behavior. This is an introduction to behavioral functions\, attendees will be familiarized with tools to determine the "why". presented by Kathleen Gilmore. Helpful to anyone who deals with children\; family members\, educators\, medical personnel\, caregiver\, emergency personnel\, babysitters\, and community members who want to learn more about children and the "why" to their behavior.
X-ALT-DESC;FMTTYPE=text/html:EWASDA is sponsoring their 2nd Free seminar\, &quot\;Why do they do that&quot\;: Understanding the Function Behind the Behavior. This is an introduction to behavioral functions\, attendees will be familiarized with tools to determine the &quot\;why&quot\;. presented by Kathleen Gilmore. Helpful to anyone who deals with children\; family members\, educators\, medical personnel\, caregiver\, emergency personnel\, babysitters\, and community members who want to learn more about children and the &quot\;why&quot\; to their behavior.
LOCATION:Jacobi's Caf on 2nd\, Walla Walla
UID:e.65.1989
SEQUENCE:3
DTSTAMP:20260421T121131Z
URL:https://business.wwvchamber.com/events/details/ewasda-free-seminar-10-29-2014-1989
END:VEVENT

END:VCALENDAR
