BEGIN:VCALENDAR
VERSION:2.0
PRODID:-//ChamberMaster//Event Calendar 2.0//EN
METHOD:PUBLISH
X-PUBLISHED-TTL:P3D
REFRESH-INTERVAL:P3D
CALSCALE:GREGORIAN
BEGIN:VEVENT
DTSTART:20140420T190000Z
DTEND:20140421T000000Z
X-MICROSOFT-CDO-ALLDAYEVENT:FALSE
SUMMARY:Exhibit of Abstract American Mokuhanga
DESCRIPTION:Co-curated by Keiko Hara and Akira Takemoto
X-ALT-DESC;FMTTYPE=text/html:Co-curated by Keiko Hara and Akira Takemoto
LOCATION:Sheehan Gallery 814 East Isaacs Avenue Walla Walla\, WA 99362
UID:e.65.1602
SEQUENCE:3
DTSTAMP:20260421T225810Z
URL:https://business.wwvchamber.com/events/details/exhibit-of-abstract-american-mokuhanga-04-20-2014-1602
END:VEVENT

END:VCALENDAR
