BEGIN:VCALENDAR
VERSION:2.0
PRODID:-//ChamberMaster//Event Calendar 2.0//EN
METHOD:PUBLISH
X-PUBLISHED-TTL:P3D
REFRESH-INTERVAL:P3D
CALSCALE:GREGORIAN
BEGIN:VEVENT
DTSTART:20141108T020000Z
DTEND:20141108T040000Z
X-MICROSOFT-CDO-ALLDAYEVENT:FALSE
SUMMARY:Fall Release Kick-Off @ Forgeron Cellars!!
DESCRIPTION:Join Marie-Eve & the Forgeron Cellars Cru as we kick off one of our favorite weekends of the year: Walla Walla Valley Fall Release! Friday\, November 7 from 6 - 8pm\, the Forgeron Cru will be showcasing all of our NEW Fall Releases with appetizers specifically paired to each wine\, while enjoying the live music of Jeff Zuber\, (a Woodinville Tasting Room favorite) and showcasing the art of Helene Wilder. Visit our Downtown Walla Walla Winery & Tasting Room to sample 3 NEW beautiful Releases! Our newest 2011 Les Collines Vineyard Syrah\, our NEW voluptuous & vibrant 2011 Cabernet Sauvignon AND our EXTREMELY Limited 2011 StoneTree Vineyard Malbec & 2013 Underwood Mtn Riesling before they are gone! Plus Marie-Eve's classic\, renowned 2012 Chardonnay! This fun\, casual event is ONLY $15\; complimentary for SOCI T  Wine Club members!
X-ALT-DESC;FMTTYPE=text/html:Join Marie-Eve &amp\; the Forgeron Cellars Cru as we kick off one of our favorite weekends of the year: Walla Walla Valley Fall Release! Friday\, November 7 from 6 - 8pm\, the Forgeron Cru will be showcasing all of our NEW Fall Releases with appetizers specifically paired to each wine\, while enjoying the live music of Jeff Zuber\, (a Woodinville Tasting Room favorite) and showcasing the art of Helene Wilder. Visit our Downtown Walla Walla Winery &amp\; Tasting Room to sample 3 NEW beautiful Releases! Our newest 2011 Les Collines Vineyard Syrah\, our NEW voluptuous &amp\; vibrant 2011 Cabernet Sauvignon AND our EXTREMELY Limited 2011 StoneTree Vineyard Malbec &amp\; 2013 Underwood Mtn Riesling before they are gone! Plus Marie-Eve&#39\;s classic\, renowned 2012 Chardonnay! This fun\, casual event is ONLY $15\; complimentary for SOCI&Eacute\;T&Eacute\; Wine Club members!
LOCATION:Forgeron Cellars Winery & Tasting Room - 33 W Birch St\, Walla Walla\, WA 99362
UID:e.65.1987
SEQUENCE:3
DTSTAMP:20260421T102208Z
URL:https://business.wwvchamber.com/events/details/fall-release-kick-off-forgeron-cellars-11-07-2014-1987
END:VEVENT

END:VCALENDAR
