BEGIN:VCALENDAR
VERSION:2.0
PRODID:-//ChamberMaster//Event Calendar 2.0//EN
METHOD:PUBLISH
X-PUBLISHED-TTL:P3D
REFRESH-INTERVAL:P3D
CALSCALE:GREGORIAN
BEGIN:VEVENT
DTSTART:20141107T180000Z
DTEND:20141110T010000Z
X-MICROSOFT-CDO-ALLDAYEVENT:FALSE
SUMMARY:Fall Release Weekend at REININGER Winery
DESCRIPTION:We'll be pouring these new releases: 2012 REININGER Syrah\, 2012 REININGER Reserve Chardonnay\, 2013 REININGER Semillon\, 2012 Helix SoRho and 2013 Helix Viognier\, as well as other favorites\, including the 93 pt 2011 REININGER Syrah and the CPR Red Wine\, along with delectable nibbles.
X-ALT-DESC;FMTTYPE=text/html:We&#39\;ll be pouring these new releases: 2012 REININGER Syrah\, 2012 REININGER Reserve Chardonnay\, 2013 REININGER Semillon\, 2012 Helix SoRho and 2013 Helix Viognier\, as well as other favorites\, including the 93 pt 2011 REININGER Syrah and the CPR Red Wine\, along with delectable nibbles.
LOCATION:REININGER Winery 5858 Old Hwy 12 Walla Walla\, WA 99362
UID:e.65.2012
SEQUENCE:3
DTSTAMP:20260421T102256Z
URL:https://business.wwvchamber.com/events/details/fall-release-weekend-at-reininger-winery-11-07-2014-2012
END:VEVENT

END:VCALENDAR
