BEGIN:VCALENDAR
VERSION:2.0
PRODID:-//ChamberMaster//Event Calendar 2.0//EN
METHOD:PUBLISH
X-PUBLISHED-TTL:P3D
REFRESH-INTERVAL:P3D
CALSCALE:GREGORIAN
BEGIN:VEVENT
DTSTART:20141108T180000Z
DTEND:20141110T003000Z
X-MICROSOFT-CDO-ALLDAYEVENT:FALSE
SUMMARY:Fall Release Weekend at Spring Valley Vineyard
DESCRIPTION:Join us for F\n\nFALL RELEASE WEEKEND at Spring Valley Vineyard\n\n\n\nFriday\, November 7th 10:00am - 4:30pm\n\nSaturday\, November 8th 10:00am - 5:00pm\n\nSunday\, November 9th 10:00am - 4:30pm\n\n\n\nVisit our downtown tasting room during Walla Walla's annual fall celebration with wine tasting\, appetizers (Saturday only) and the release of 2012 Nina Lee Syrah and 2012 Sharilee Petit Verdot\, both from Walla Walla Valley.  $8 tasting fee includes logo glass.  Complimentary tasting for Family Circle members plus one guest.  No reservations necessary.\n\n\n\nSpecial Invitation for Family Circle Members\n\n\n\nFriday\, November 7th from 5:00pm - 7:00pm\n\nPlease join Kate Derby Raymond and our family in the Spring Valley Vineyard Tasting Room.  We will have some small bites to enjoy along with the world-renowned wines of Spring Valley Vineyard\, while listening to music by Garth Olson.Complimentary for our Family Circle members plus one guest.  RSVP for this members only event by November 3\, 2014 by calling 509-525-1506.
X-ALT-DESC;FMTTYPE=text/html:<strong>Join us for F<br>\nFALL RELEASE WEEKEND at Spring Valley Vineyard</strong><br>\n<br>\nFriday\, November 7th 10:00am - 4:30pm<br>\nSaturday\, November 8th 10:00am - 5:00pm<br>\nSunday\, November 9th 10:00am - 4:30pm<br>\n<br>\nVisit our downtown tasting room during Walla Walla's annual fall celebration with wine tasting\, appetizers (Saturday only) and the release of 2012 Nina Lee Syrah and 2012 Sharilee Petit Verdot\, both from Walla Walla Valley.&nbsp\; $8 tasting fee includes logo glass.&nbsp\; Complimentary tasting for Family Circle members plus one guest.&nbsp\; No reservations necessary.<br>\n<br>\n<strong>Special Invitation for Family Circle Members</strong><br>\n<br>\nFriday\, November 7th from 5:00pm - 7:00pm<br>\nPlease join Kate Derby Raymond and our family in the Spring Valley Vineyard Tasting Room.&nbsp\; We will have some small bites to enjoy along with the world-renowned wines of Spring Valley Vineyard\, while listening to music by Garth Olson.Complimentary for our Family Circle members plus one guest.&nbsp\; RSVP for this members only event by November 3\, 2014 by calling 509-525-1506.
LOCATION:Spring Valley Vineyard downtown tasting room at 18 N 2nd Ave\, Walla Walla\, WA
UID:e.65.1992
SEQUENCE:3
DTSTAMP:20260421T103220Z
URL:https://business.wwvchamber.com/events/details/fall-release-weekend-at-spring-valley-vineyard-11-08-2014-1992
END:VEVENT

END:VCALENDAR
