BEGIN:VCALENDAR
VERSION:2.0
PRODID:-//ChamberMaster//Event Calendar 2.0//EN
METHOD:PUBLISH
X-PUBLISHED-TTL:P3D
REFRESH-INTERVAL:P3D
CALSCALE:GREGORIAN
BEGIN:VEVENT
DTSTART:20140503T190000Z
DTEND:20140503T210000Z
X-MICROSOFT-CDO-ALLDAYEVENT:FALSE
SUMMARY:Family Field Day
DESCRIPTION:Come have a fun and active afternoon with your family and children of all ages. Try your hand at juggling\, tennis\, bouldering\, zumba and much more! This is a free event and will take place on Whitman Campus at Ankeny Field.
X-ALT-DESC;FMTTYPE=text/html:Come have a fun and active afternoon with your family and children of all ages. Try your hand at juggling\, tennis\, bouldering\, zumba and much more! This is a free event and will take place on Whitman Campus at Ankeny Field.
LOCATION:Whitman Campus\, Ankeny Field
UID:e.65.1735
SEQUENCE:3
DTSTAMP:20260421T211207Z
URL:https://business.wwvchamber.com/events/details/family-field-day-05-03-2014-1735
END:VEVENT

END:VCALENDAR
