BEGIN:VCALENDAR
VERSION:2.0
PRODID:-//ChamberMaster//Event Calendar 2.0//EN
METHOD:PUBLISH
X-PUBLISHED-TTL:P3D
REFRESH-INTERVAL:P3D
CALSCALE:GREGORIAN
BEGIN:VEVENT
DTSTART:20140921T023000Z
DTEND:20140921T043000Z
X-MICROSOFT-CDO-ALLDAYEVENT:FALSE
SUMMARY:Fiestas Patrias - Benefit Concert
DESCRIPTION:Shakespeare Walla Walla and the Walla Walla School District present "Fiestas Patrias" on Saturday\, September 20\, starting at 7:30 p.m. Regional performers will present a variety of Latin music and dance in the spirit of five patriotic Mexican holidays collectively known as Fiestas Patrias. \n\n \n\nHeadlining the evening's performance will be Tri-Cities band Fino\, featuring Garrison Middle School Principal Robert Elinzondo. Other performers will include Walla Walla Ballet Folkl rico\, Salvador Hernandez\, and Juilo Cesar. \n\n \n\nProceeds will benefit the Shakespeare Walla Walla education program and the Walla Walla Ballet Folkl rico\, an after school program teaching traditional Mexican dance to students at Garrison Middle School and Pioneer Middle School.
X-ALT-DESC;FMTTYPE=text/html:<div>Shakespeare Walla Walla and the Walla Walla School District present &quot\;Fiestas Patrias&quot\; on Saturday\, September 20\, starting at 7:30 p.m. Regional performers will present a variety of Latin music and dance in the spirit of five patriotic Mexican holidays collectively known as Fiestas Patrias.&nbsp\;</div>\n\n<div>&nbsp\;</div>\n\n<div>Headlining the evening&#39\;s performance will be Tri-Cities band Fino\, featuring Garrison Middle School Principal Robert Elinzondo. Other performers will include Walla Walla Ballet Folkl&oacute\;rico\, Salvador Hernandez\, and Juilo Cesar.&nbsp\;</div>\n\n<div>&nbsp\;</div>\n\n<div>Proceeds will benefit the Shakespeare Walla Walla education program and the Walla Walla Ballet Folkl&oacute\;rico\, an after school program teaching traditional Mexican dance to students at Garrison Middle School and Pioneer Middle School.&nbsp\;</div>\n
LOCATION:Gesa Power House Theatre
UID:e.65.1915
SEQUENCE:3
DTSTAMP:20260421T140907Z
URL:https://business.wwvchamber.com/events/details/fiestas-patrias-benefit-concert-09-20-2014-1915
END:VEVENT

END:VCALENDAR
