BEGIN:VCALENDAR
VERSION:2.0
PRODID:-//ChamberMaster//Event Calendar 2.0//EN
METHOD:PUBLISH
X-PUBLISHED-TTL:P3D
REFRESH-INTERVAL:P3D
CALSCALE:GREGORIAN
BEGIN:VEVENT
DTSTART;VALUE=DATE:20140701
DTEND;VALUE=DATE:20140705
TRANSP:TRANSPARENT
X-MICROSOFT-CDO-ALLDAYEVENT:TRUE
SUMMARY:Fireworks Fundraiser
DESCRIPTION:Fireworks Fund Raising Sale!\n\n20% Proceeds to benefit New Beginnings Chapel Youth Group
X-ALT-DESC;FMTTYPE=text/html:Fireworks Fund Raising Sale!<br />\n20% Proceeds to benefit New Beginnings Chapel Youth Group
LOCATION:Albertsons Parking Lot Walla Walla\, WA 99362
UID:e.65.1841
SEQUENCE:3
DTSTAMP:20260421T175821Z
URL:https://business.wwvchamber.com/events/details/fireworks-fundraiser-07-01-2014-1841
END:VEVENT

END:VCALENDAR
