BEGIN:VCALENDAR
VERSION:2.0
PRODID:-//ChamberMaster//Event Calendar 2.0//EN
METHOD:PUBLISH
X-PUBLISHED-TTL:P3D
REFRESH-INTERVAL:P3D
CALSCALE:GREGORIAN
BEGIN:VEVENT
DTSTART:20140605T191500Z
DTEND:20140605T201500Z
X-MICROSOFT-CDO-ALLDAYEVENT:FALSE
SUMMARY:First Thursday Concert
DESCRIPTION:I Cantori\, an auditioned singing group from Walla Walla University\, will be performing on June 5 at St. Paul's Episcopal Church\, 323 Catherine Street\, Walla Walla\, beginning at 12:15 p.m.\n\nThe choir is directed by Dr. Kraig Scott. The concert is free but donations are gladly accepted which will go to the charity of the performers' choice.\n\n\n\nFor more information\, contact Tanya at 529-1083.
X-ALT-DESC;FMTTYPE=text/html:I Cantori\, an auditioned singing group from Walla Walla University\, will be performing on June 5 at St. Paul&#39\;s Episcopal Church\, 323 Catherine Street\, Walla Walla\, beginning at 12:15 p.m.<br />\nThe choir is directed by Dr. Kraig Scott. The concert is free but donations are gladly accepted which will go to the charity of the performers&#39\; choice.<br />\n<br />\nFor more information\, contact Tanya at 529-1083.<br />\n&nbsp\;
LOCATION:St. Paul's Episcopal Church 323 Catherine Street Walla Walla
UID:e.65.1765
SEQUENCE:3
DTSTAMP:20260421T194514Z
URL:https://business.wwvchamber.com/events/details/first-thursday-concert-06-05-2014-1765
END:VEVENT

END:VCALENDAR
