BEGIN:VCALENDAR
VERSION:2.0
PRODID:-//ChamberMaster//Event Calendar 2.0//EN
METHOD:PUBLISH
X-PUBLISHED-TTL:P3D
REFRESH-INTERVAL:P3D
CALSCALE:GREGORIAN
BEGIN:VEVENT
DTSTART:20141106T201500Z
DTEND:20141106T205000Z
X-MICROSOFT-CDO-ALLDAYEVENT:FALSE
SUMMARY:First Thursday concert
DESCRIPTION:Performing will be Dr. David Kim of the Whitman College music faculty on his fortepiano. This piano is similar to what Mozart and Beethoven would have played.
X-ALT-DESC;FMTTYPE=text/html:Performing will be Dr. David Kim of the Whitman College music faculty on his fortepiano. This piano is similar to what Mozart and Beethoven would have played.
LOCATION:St. Paul's Episcopal Church 323 Catherine Street Walla Walla\, WA
UID:e.65.1991
SEQUENCE:3
DTSTAMP:20260421T103438Z
URL:https://business.wwvchamber.com/events/details/first-thursday-concert-11-06-2014-1991
END:VEVENT

END:VCALENDAR
