BEGIN:VCALENDAR
VERSION:2.0
PRODID:-//ChamberMaster//Event Calendar 2.0//EN
METHOD:PUBLISH
X-PUBLISHED-TTL:P3D
REFRESH-INTERVAL:P3D
CALSCALE:GREGORIAN
BEGIN:VEVENT
DTSTART:20141204T201500Z
DTEND:20141204T204500Z
X-MICROSOFT-CDO-ALLDAYEVENT:FALSE
SUMMARY:First Thursday concert
DESCRIPTION:A string quartet\, composed of members of the WW Symphony\, will be Ardeth Erikson\, violin\, Noel Jabagat\, violin\, Leah Wilson-Velasco\, viola and Leah Bailey\, cello.
X-ALT-DESC;FMTTYPE=text/html:A string quartet\, composed of members of the WW Symphony\, will be Ardeth Erikson\, violin\, Noel Jabagat\, violin\, Leah Wilson-Velasco\, viola and Leah Bailey\, cello. 
LOCATION:St. Paul's Episcopal Church 323 Catherine Street Walla Walla
UID:e.65.2269
SEQUENCE:3
DTSTAMP:20260421T085535Z
URL:https://business.wwvchamber.com/events/details/first-thursday-concert-12-04-2014-2269
END:VEVENT

END:VCALENDAR
