BEGIN:VCALENDAR
VERSION:2.0
PRODID:-//ChamberMaster//Event Calendar 2.0//EN
METHOD:PUBLISH
X-PUBLISHED-TTL:P3D
REFRESH-INTERVAL:P3D
CALSCALE:GREGORIAN
BEGIN:VEVENT
DTSTART:20240414T210000Z
DTEND:20240414T220000Z
X-MICROSOFT-CDO-ALLDAYEVENT:FALSE
SUMMARY:Fort Walla Walla's Living History - Stagecoach driver
DESCRIPTION:The man loved his horses\, that's what the history books say about Charlie Potter\, famed stagecoach driver from Walla Walla and all points around. Many of you may have seen the Museum's iconic stagecoach. Now come see its driver. Ron Krause brings him to life in the Pioneer Village.
X-ALT-DESC;FMTTYPE=text/html:<span style="font-size: 12pt\; font-family: &quot\;Times New Roman&quot\;\, serif\; color: rgb(85\, 85\, 85)\; background-image: initial\; background-position: initial\; background-size: initial\; background-repeat: initial\; background-attachment: initial\; background-origin: initial\; background-clip: initial\;">The man loved his horses\, that&rsquo\;s what the history books say about Charlie Potter\, famed stagecoach driver from Walla Walla and all points around. Many of you may have seen the Museum&rsquo\;s iconic stagecoach. Now come see its driver. Ron Krause brings him to life in the Pioneer Village.</span>
LOCATION:Fort Walla Walla Museum 755 NE Myra Road Walla Walla\, WA
UID:e.65.19991
SEQUENCE:3
DTSTAMP:20260425T211541Z
URL:https://business.wwvchamber.com/events/details/fort-walla-walla-s-living-history-stagecoach-driver-19991
END:VEVENT

END:VCALENDAR
