BEGIN:VCALENDAR
VERSION:2.0
PRODID:-//ChamberMaster//Event Calendar 2.0//EN
METHOD:PUBLISH
X-PUBLISHED-TTL:P3D
REFRESH-INTERVAL:P3D
CALSCALE:GREGORIAN
BEGIN:VEVENT
DTSTART:20140329T163000Z
DTEND:20140329T163000Z
X-MICROSOFT-CDO-ALLDAYEVENT:FALSE
SUMMARY:FREE Babysitter's Training class
DESCRIPTION:We are excited to be offering two FREE Babysitter Training classes to our community this spring.\n\nBabysitting is often a teenager's first business.  Babysitter's Training from the American Red Cross brings the best in child development and safety training.  It builds confidence to hold\, feed\, and care for infants and toddlers\, work with children safely\, and deal with emergencies.  Just as importantly\, it teaches lifelong entrepreneurial and career development skills.\n\nThe first class will be held on Saturday March 29 at the Red Cross chapter\, and is open to 12 students. Please register online at www.redcross.org/babysitting (click on Find Classes and enter our zip code) and use the coupon code P294BLUEMT0514 when registering. Thank you to the Blue Mountain Community Foundation for making this possible!
X-ALT-DESC;FMTTYPE=text/html:We are excited to be offering two <strong>FREE Babysitter Training</strong> classes to our community this spring.<br />\nBabysitting is often a teenager&#39\;s first business. &nbsp\;Babysitter&#39\;s Training from the American Red Cross brings the best in child development and safety training. &nbsp\;It builds confidence to hold\, feed\, and care for infants and toddlers\, work with children safely\, and deal with emergencies. &nbsp\;Just as importantly\, it teaches lifelong entrepreneurial and career development skills.<br />\nThe first class will be held on <strong>Saturday March 29</strong> at the Red Cross chapter\, and is open to 12 students. Please register&nbsp\;online at www.redcross.org/babysitting&nbsp\;(click on Find Classes and enter our zip code) and use the <em>coupon code</em> <strong>P294BLUEMT0514</strong> when registering. Thank you to the Blue Mountain Community Foundation for making this possible!
LOCATION:Blue Mountain Chapter of the American Red Cross 175 S. Park St Walla Walla\, WA 99362
UID:e.65.1646
SEQUENCE:3
DTSTAMP:20260422T003450Z
URL:https://business.wwvchamber.com/events/details/free-babysitter-s-training-class-03-29-2014-1646
END:VEVENT

END:VCALENDAR
