BEGIN:VCALENDAR
VERSION:2.0
PRODID:-//ChamberMaster//Event Calendar 2.0//EN
METHOD:PUBLISH
X-PUBLISHED-TTL:P3D
REFRESH-INTERVAL:P3D
CALSCALE:GREGORIAN
BEGIN:VEVENT
DTSTART:20140614T003000Z
DTEND:20140614T033000Z
X-MICROSOFT-CDO-ALLDAYEVENT:FALSE
SUMMARY:Friday Night Couples Nine & Wine with Dunham Cellars
DESCRIPTION:TEST YOUR FRIDAY THE 13TH LUCK at Wine Valley Golf Club for Friday Night Couples Nine & Wine with Dunham Cellars on June 13\, 2014. The fun begins with a shotgun start at 5:30pm with an Alternate Shot Scramble format. The cost per couple is $60 and includes green fees\, cart\, entry into the competition\, and a wine tasting afterwards of our 2013 Shirley Mays Chardonnay and 2012 Three Legged Red. Please RSVP with the Wine Valley Golf Shop by contacting John or Cory at 509-525-4653 or 877-333-9842. Good luck! And cheers!
X-ALT-DESC;FMTTYPE=text/html:TEST YOUR FRIDAY THE 13TH LUCK at Wine Valley Golf Club for Friday Night Couples Nine &amp\; Wine with Dunham Cellars on June 13\, 2014. The fun begins with a shotgun start at 5:30pm with an Alternate Shot Scramble format. The cost per couple is $60 and includes green fees\, cart\, entry into the competition\, and a wine tasting afterwards of our 2013 Shirley Mays Chardonnay and 2012 Three Legged Red. Please RSVP with the Wine Valley Golf Shop by contacting John or Cory at 509-525-4653 or 877-333-9842. Good luck! And cheers!
LOCATION:Wine Valley Golf Club 176 Wine Valley Road\, Walla Walla\, WA 99362
UID:e.65.1790
SEQUENCE:3
DTSTAMP:20260421T205254Z
URL:https://business.wwvchamber.com/events/details/friday-night-couples-nine-wine-with-dunham-cellars-06-13-2014-1790
END:VEVENT

END:VCALENDAR
