BEGIN:VCALENDAR
VERSION:2.0
PRODID:-//ChamberMaster//Event Calendar 2.0//EN
METHOD:PUBLISH
X-PUBLISHED-TTL:P3D
REFRESH-INTERVAL:P3D
CALSCALE:GREGORIAN
BEGIN:VEVENT
DTSTART:20240511T000000Z
DTEND:20240511T030000Z
X-MICROSOFT-CDO-ALLDAYEVENT:FALSE
SUMMARY:Friday Night Music at Tranche: Fox & Bones
DESCRIPTION:Fox & Bones will be performing live at Tranche for Friday Night Music during Mother's Day Weekend. Family-Friendly | No Cover | Wines for Sale by the Glass & Bottle OUTSIDE ALCOHOL PROHIBITED Table seating is very limited\, so blankets and lawn chairs are highly encouraged. Wine club members can reserve tables for music nights. Call us at 509.676.5001 to reserve your table.
X-ALT-DESC;FMTTYPE=text/html:Fox &amp\; Bones will be performing live at Tranche for Friday Night Music during Mother&#39\;s Day Weekend. Family-Friendly | No Cover | Wines for Sale by the Glass &amp\; Bottle OUTSIDE ALCOHOL PROHIBITED Table seating is very limited\, so blankets and lawn chairs are highly encouraged. Wine club members can reserve tables for music nights. Call us at 509.676.5001 to reserve your table.
LOCATION:Tranche\, 705 Berney Dr.\, Walla Walla WA 99362
UID:e.65.19820
SEQUENCE:3
DTSTAMP:20260425T192813Z
URL:https://business.wwvchamber.com/events/details/friday-night-music-at-tranche-fox-bones-19820
END:VEVENT

END:VCALENDAR
