BEGIN:VCALENDAR
VERSION:2.0
PRODID:-//ChamberMaster//Event Calendar 2.0//EN
METHOD:PUBLISH
X-PUBLISHED-TTL:P3D
REFRESH-INTERVAL:P3D
CALSCALE:GREGORIAN
BEGIN:VEVENT
DTSTART:20140614T013000Z
DTEND:20140614T040000Z
X-MICROSOFT-CDO-ALLDAYEVENT:FALSE
SUMMARY:Friday Night Music with Sammy Witness & The Reassignment
DESCRIPTION:Join us for a casual evening of locally catered food\, Three Rivers wines and music by Sammy Witness and The Reassignment while enjoying stunning views of the Blue Mountains and our surrounding vineyards. No outside food or drinks will be allowed\, thank you for understanding. Sammy Witness and The Reassignment blend folk and indie-rock stylings with jazz-tinged vocals to weave a sound at times reminiscent of Sheryl Crow\, Jenny Lewis and Butterfly Boucher but altogether uniquely their own. Sammy is living in Seattle and has pieced together her new backing band\, The Reassignment. With the exception of Sammy and utility player - Aaron Walters\, the entire band consists of Berkley School of Music graduates who have 'reassigned' themselves as Seattle locals by way of Boston. The Reassignment is made up of Colin Mclaurin (Drums)\, Nick Fair (Lead guitar)\, Nolan Watt (Bass)\, and Aaron Walters (Multi-instrumentalist).
X-ALT-DESC;FMTTYPE=text/html:Join us for a casual evening of locally catered food\, Three Rivers wines and music by Sammy Witness and The Reassignment while enjoying stunning views of the Blue Mountains and our surrounding vineyards. No outside food or drinks will be allowed\, thank you for understanding. Sammy Witness and The Reassignment blend folk and indie-rock stylings with jazz-tinged vocals to weave a sound at times reminiscent of Sheryl Crow\, Jenny Lewis and Butterfly Boucher but altogether uniquely their own. Sammy is living in Seattle and has pieced together her new backing band\, The Reassignment. With the exception of Sammy and utility player - Aaron Walters\, the entire band consists of Berkley School of Music graduates who have &#39\;reassigned&#39\; themselves as Seattle locals by way of Boston. The Reassignment is made up of Colin Mclaurin (Drums)\, Nick Fair (Lead guitar)\, Nolan Watt (Bass)\, and Aaron Walters (Multi-instrumentalist).
LOCATION:Three Rivers Winery 5641 Old Hwy 12 Walla Walla WA 99362
UID:e.65.1786
SEQUENCE:3
DTSTAMP:20260421T195105Z
URL:https://business.wwvchamber.com/events/details/friday-night-music-with-sammy-witness-the-reassignment-06-13-2014-1786
END:VEVENT

END:VCALENDAR
