BEGIN:VCALENDAR
VERSION:2.0
PRODID:-//ChamberMaster//Event Calendar 2.0//EN
METHOD:PUBLISH
X-PUBLISHED-TTL:P3D
REFRESH-INTERVAL:P3D
CALSCALE:GREGORIAN
BEGIN:VEVENT
DTSTART:20140712T013000Z
DTEND:20140712T040000Z
X-MICROSOFT-CDO-ALLDAYEVENT:FALSE
SUMMARY:Friday Night Music with Scott Cossu
DESCRIPTION:Join us for a casual evening of locally catered food\, Three Rivers wines and music by Scott Cossu while enjoying stunning views of the Blue Mountains and our surrounding vineyards. Walla Walla Bread Company will be onsite selling tasty pizzas fresh from their mobile wood-fired pizza oven. Wines will be available for purchase by the glass or by the bottle. There will be one featured wine on special at 15% off. No outside food or drink may be brought on site\, thank you for understanding. Scott is an internationally known\, composer\, pianist and recording artist. He was up front when New Age was just beginning over 30 years ago. He will be performing a wide variety of music during his performance\, including several tunes from his repertoire of music with the Windham Hill catalog\, along with his most recent recording ? Jazz\, Boogie and Deja Blues.?
X-ALT-DESC;FMTTYPE=text/html:Join us for a casual evening of locally catered food\, Three Rivers wines and music by Scott Cossu while enjoying stunning views of the Blue Mountains and our surrounding vineyards. Walla Walla Bread Company will be onsite selling tasty pizzas fresh from their mobile wood-fired pizza oven. Wines will be available for purchase by the glass or by the bottle. There will be one featured wine on special at 15% off. No outside food or drink may be brought on site\, thank you for understanding. Scott is an internationally known\, composer\, pianist and recording artist. He was up front when New Age was just beginning over 30 years ago. He will be performing a wide variety of music during his performance\, including several tunes from his repertoire of music with the Windham Hill catalog\, along with his most recent recording ? Jazz\, Boogie and Deja Blues.?
LOCATION:Three Rivers Winery 5641 Old Hwy 12 Walla Walla WA 99362
UID:e.65.1843
SEQUENCE:3
DTSTAMP:20260421T190802Z
URL:https://business.wwvchamber.com/events/details/friday-night-music-with-scott-cossu-07-11-2014-1843
END:VEVENT

END:VCALENDAR
