BEGIN:VCALENDAR
VERSION:2.0
PRODID:-//ChamberMaster//Event Calendar 2.0//EN
METHOD:PUBLISH
X-PUBLISHED-TTL:P3D
REFRESH-INTERVAL:P3D
CALSCALE:GREGORIAN
BEGIN:VEVENT
DTSTART:20140621T013000Z
DTEND:20140621T040000Z
X-MICROSOFT-CDO-ALLDAYEVENT:FALSE
SUMMARY:Friday Night Music with The Gems
DESCRIPTION:Join us for a casual evening of locally catered food\, Three Rivers wines and music by The GEMS while enjoying stunning views of the Blue Mountains and our surrounding vineyards. The GEMS feature oldies but goodies rock. This is a local favorite and tables fill up quickly every year! Walla Walla Bread Company will be onsite selling tasty pizzas fresh from their mobile wood-fired pizza oven. No outside food or drinks will be allowed\, thank you for understanding.
X-ALT-DESC;FMTTYPE=text/html:Join us for a casual evening of locally catered food\, Three Rivers wines and music by The GEMS while enjoying stunning views of the Blue Mountains and our surrounding vineyards. The GEMS feature oldies but goodies rock. This is a local favorite and tables fill up quickly every year! Walla Walla Bread Company will be onsite selling tasty pizzas fresh from their mobile wood-fired pizza oven. No outside food or drinks will be allowed\, thank you for understanding.
LOCATION:Three Rivers Winery 5641 Old Hwy 12 Walla Walla WA 99362
UID:e.65.1787
SEQUENCE:3
DTSTAMP:20260421T205432Z
URL:https://business.wwvchamber.com/events/details/friday-night-music-with-the-gems-06-20-2014-1787
END:VEVENT

END:VCALENDAR
