BEGIN:VCALENDAR
VERSION:2.0
PRODID:-//ChamberMaster//Event Calendar 2.0//EN
METHOD:PUBLISH
X-PUBLISHED-TTL:P3D
REFRESH-INTERVAL:P3D
CALSCALE:GREGORIAN
BEGIN:VEVENT
DTSTART:20140719T013000Z
DTEND:20140719T040000Z
X-MICROSOFT-CDO-ALLDAYEVENT:FALSE
SUMMARY:Friday Night Music with the Jamie Nasario Trio
DESCRIPTION:Join us for a casual evening of locally catered food\, Three Rivers wines and music by the Jamie Nasario Trio while enjoying stunning views of the Blue Mountains and our surrounding vineyards. Walla Walla Bread Company will be onsite selling tasty pizzas fresh from their mobile wood-fired pizza oven. Wines will be available for purchase by the glass or by the bottle. There will be one featured wine on special at 15% off. No outside food or drinks will be allowed\, thank you for understanding. Hailing from the small town of Echo\, Oregon\, Jamie Nasario has caught the attention of many listeners\, far and wide. Her soul driven voice and bluesy repertoire captures the classic vibe from the 50's and 60's while still maintaining a modern flavor. Although fairly new to performing\, Nasario's raw talent and sultry singing sounds far from unrefined. After owning her own business for several years\, Nasario has proven to be a natural in music and caught on very quickly in this business. Nasario is backed by guitarist\, Luke Basile and drummer\, Dennis Rogers\, "Too Short." Together\, this acoustic based group has a captivating presence and showcases talent beyond their years.
X-ALT-DESC;FMTTYPE=text/html:Join us for a casual evening of locally catered food\, Three Rivers wines and music by the Jamie Nasario Trio while enjoying stunning views of the Blue Mountains and our surrounding vineyards. Walla Walla Bread Company will be onsite selling tasty pizzas fresh from their mobile wood-fired pizza oven. Wines will be available for purchase by the glass or by the bottle. There will be one featured wine on special at 15% off. No outside food or drinks will be allowed\, thank you for understanding. Hailing from the small town of Echo\, Oregon\, Jamie Nasario has caught the attention of many listeners\, far and wide. Her soul driven voice and bluesy repertoire captures the classic vibe from the 50&#39\;s and 60&#39\;s while still maintaining a modern flavor. Although fairly new to performing\, Nasario&#39\;s raw talent and sultry singing sounds far from unrefined. After owning her own business for several years\, Nasario has proven to be a natural in music and caught on very quickly in this business. Nasario is backed by guitarist\, Luke Basile and drummer\, Dennis Rogers\, &quot\;Too Short.&quot\; Together\, this acoustic based group has a captivating presence and showcases talent beyond their years.
LOCATION:Three Rivers Winery 5641 Old Hwy 12 Walla Walla WA 99362
UID:e.65.1844
SEQUENCE:3
DTSTAMP:20260421T180850Z
URL:https://business.wwvchamber.com/events/details/friday-night-music-with-the-jamie-nasario-trio-07-18-2014-1844
END:VEVENT

END:VCALENDAR
