BEGIN:VCALENDAR
VERSION:2.0
PRODID:-//ChamberMaster//Event Calendar 2.0//EN
METHOD:PUBLISH
X-PUBLISHED-TTL:P3D
REFRESH-INTERVAL:P3D
CALSCALE:GREGORIAN
BEGIN:VEVENT
DTSTART:20140427T220000Z
DTEND:20140428T000000Z
X-MICROSOFT-CDO-ALLDAYEVENT:FALSE
SUMMARY:Girls Growing Up
DESCRIPTION:Enjoy afternoon tea with your daughter and take this opportunity to build a bridge between you and your 9- to 12-yearold. Taught by pediatrician Shirley ashley\, MD\, and school counselor KarrLayn Beck\, MSW\, the class will focus on enhancing understanding between parents and preteens\, as well as facilitate learning about the physical and emoitional changes of puberty.
X-ALT-DESC;FMTTYPE=text/html:Enjoy afternoon tea with&nbsp\;your daughter and take&nbsp\;this opportunity to build&nbsp\;a bridge between you&nbsp\;and your 9- to 12-yearold. Taught by pediatrician Shirley ashley\, MD\, and school counselor KarrLayn Beck\, MSW\, the class will focus on enhancing understanding between parents and preteens\, as well as facilitate learning about the physical and emoitional changes of puberty.
LOCATION:Walla Walla General Hospital
UID:e.65.1651
SEQUENCE:3
DTSTAMP:20260422T002614Z
URL:https://business.wwvchamber.com/events/details/girls-growing-up-04-27-2014-1651
END:VEVENT

END:VCALENDAR
