BEGIN:VCALENDAR
VERSION:2.0
PRODID:-//ChamberMaster//Event Calendar 2.0//EN
METHOD:PUBLISH
X-PUBLISHED-TTL:P3D
REFRESH-INTERVAL:P3D
CALSCALE:GREGORIAN
BEGIN:VEVENT
DTSTART:20140907T193000Z
DTEND:20140907T210000Z
X-MICROSOFT-CDO-ALLDAYEVENT:FALSE
SUMMARY:Grandparent's Day Celebration
DESCRIPTION:In honor of Grandparent's Day\, Park Plaza is hosting a special meal for you! With delicous and nutritious food prepared by our executive chef\, Eric Naftzger. Bob Lewis will add his piano stylings in the dining room as well.
X-ALT-DESC;FMTTYPE=text/html:In honor of Grandparent&#39\;s Day\, Park Plaza&nbsp\;is hosting a special meal for you! With delicous and nutritious food prepared by our executive chef\, Eric Naftzger. Bob Lewis will add his piano stylings in the dining room as well.
LOCATION:Park Plaza Retirement Community
UID:e.65.1922
SEQUENCE:3
DTSTAMP:20260421T140601Z
URL:https://business.wwvchamber.com/events/details/grandparent-s-day-celebration-09-07-2014-1922
END:VEVENT

END:VCALENDAR
