BEGIN:VCALENDAR
VERSION:2.0
PRODID:-//ChamberMaster//Event Calendar 2.0//EN
METHOD:PUBLISH
X-PUBLISHED-TTL:P3D
REFRESH-INTERVAL:P3D
CALSCALE:GREGORIAN
BEGIN:VEVENT
DTSTART:20141211T220000Z
DTEND:20141211T233000Z
X-MICROSOFT-CDO-ALLDAYEVENT:FALSE
SUMMARY:Grief During the Holidays
DESCRIPTION:Are you grieving the loss of a loved one? Help find your way to healing during the holiday season at our FREE grief support class. To register please call the WWGH Spiritual Care Department at 509-527-8000 ext. 1848.
X-ALT-DESC;FMTTYPE=text/html:<div>\n	Are you grieving the loss of a loved one? Help find your way to healing during the holiday season at our FREE grief support class. To register please call the WWGH Spiritual Care Department at 509-527-8000 ext. 1848.</div>\n
LOCATION:Walla Walla General Hospital
UID:e.65.2237
SEQUENCE:3
DTSTAMP:20260421T090015Z
URL:https://business.wwvchamber.com/events/details/grief-during-the-holidays-12-11-2014-2237
END:VEVENT

END:VCALENDAR
