BEGIN:VCALENDAR
VERSION:2.0
PRODID:-//ChamberMaster//Event Calendar 2.0//EN
METHOD:PUBLISH
X-PUBLISHED-TTL:P3D
REFRESH-INTERVAL:P3D
CALSCALE:GREGORIAN
BEGIN:VEVENT
DTSTART:20141101T030000Z
DTEND:20141101T060000Z
X-MICROSOFT-CDO-ALLDAYEVENT:FALSE
SUMMARY:Halloween Costume Party at Main Street Studios
DESCRIPTION:Who's looking for the hottest Halloween haunt? Embrace your alter ego\, don your most stylish costume and head to Main Street Studios sinister chic Halloween Happening and costume contest!!\n\nDJ Roger Esparza will be your entertainment for the evening! He will be spinning the best of Top 40\, Electro\, and Club Hits for your listening pleasure! Get ready to dance all night long\, because he really knows how to bring the energy for hours on end.
X-ALT-DESC;FMTTYPE=text/html:Who's looking for the hottest Halloween haunt? Embrace your alter ego\, don your most stylish costume and head to Main Street Studios sinister chic Halloween Happening and costume contest!!\n\nDJ Roger Esparza will be your entertainment for the evening! He will be spinning the best of Top 40\, Electro\, and Club Hits for your listening pleasure! Get ready to dance all night long\, because he really knows how to bring the energy for hours on end.
LOCATION:Main Street Studios 207 West Main Street\, Walla Walla\, WA 99362
UID:e.65.1993
SEQUENCE:3
DTSTAMP:20260421T140639Z
URL:https://business.wwvchamber.com/events/details/halloween-costume-party-at-main-street-studios-10-31-2014-1993
END:VEVENT

END:VCALENDAR
