BEGIN:VCALENDAR
VERSION:2.0
PRODID:-//ChamberMaster//Event Calendar 2.0//EN
METHOD:PUBLISH
X-PUBLISHED-TTL:P3D
REFRESH-INTERVAL:P3D
CALSCALE:GREGORIAN
BEGIN:VEVENT
DTSTART:20141031T230000Z
DTEND:20141101T020000Z
X-MICROSOFT-CDO-ALLDAYEVENT:FALSE
SUMMARY:Halloween Spaghetti Dinner if you D.A.R.E!
DESCRIPTION:Halloween Spaghetti Dinner Fundraiser to benefit the D.A.R.E program\nFrightful Menu\nScary Marinara Sauce\nFrankenstein's Meat Sauce\nBeastly Bread\nGhostly Soda\nALL proceeds to benefit the Walla Walla Sheriff's DARE program
X-ALT-DESC;FMTTYPE=text/html:Halloween Spaghetti Dinner Fundraiser to benefit the D.A.R.E program\nFrightful Menu\nScary Marinara Sauce\nFrankenstein's Meat Sauce\nBeastly Bread\nGhostly Soda\nALL proceeds to benefit the Walla Walla Sheriff's DARE program
LOCATION:Coffee Connection Cafe 57 E. Main
UID:e.65.1980
SEQUENCE:3
DTSTAMP:20260421T121258Z
URL:https://business.wwvchamber.com/events/details/halloween-spaghetti-dinner-if-you-d-a-r-e-10-31-2014-1980
END:VEVENT

END:VCALENDAR
